BEGIN:VCALENDAR
VERSION:2.0
PRODID:-//Sensations For Generations - ECPv6.15.15//NONSGML v1.0//EN
CALSCALE:GREGORIAN
METHOD:PUBLISH
X-ORIGINAL-URL:https://sensationsforgenerations.org.uk
X-WR-CALDESC:Events for Sensations For Generations
REFRESH-INTERVAL;VALUE=DURATION:PT1H
X-Robots-Tag:noindex
X-PUBLISHED-TTL:PT1H
BEGIN:VTIMEZONE
TZID:Europe/London
BEGIN:DAYLIGHT
TZOFFSETFROM:+0000
TZOFFSETTO:+0100
TZNAME:BST
DTSTART:20250330T010000
END:DAYLIGHT
BEGIN:STANDARD
TZOFFSETFROM:+0100
TZOFFSETTO:+0000
TZNAME:GMT
DTSTART:20251026T010000
END:STANDARD
BEGIN:DAYLIGHT
TZOFFSETFROM:+0000
TZOFFSETTO:+0100
TZNAME:BST
DTSTART:20260329T010000
END:DAYLIGHT
BEGIN:STANDARD
TZOFFSETFROM:+0100
TZOFFSETTO:+0000
TZNAME:GMT
DTSTART:20261025T010000
END:STANDARD
BEGIN:DAYLIGHT
TZOFFSETFROM:+0000
TZOFFSETTO:+0100
TZNAME:BST
DTSTART:20270328T010000
END:DAYLIGHT
BEGIN:STANDARD
TZOFFSETFROM:+0100
TZOFFSETTO:+0000
TZNAME:GMT
DTSTART:20271031T010000
END:STANDARD
END:VTIMEZONE
BEGIN:VEVENT
DTSTART;TZID=Europe/London:20260219T100000
DTEND;TZID=Europe/London:20260219T110000
DTSTAMP:20260422T101142
CREATED:20260114T164854Z
LAST-MODIFIED:20260129T200309Z
UID:541-1771495200-1771498800@sensationsforgenerations.org.uk
SUMMARY:Weaning & Sensory Class (One Off)
DESCRIPTION:Weaning & Sensory Play Class 🥕👶 \nJoin us for a gentle and supportive Weaning & Sensory Play Class in collaboration with Baby Bliss and Sensations for Generations. This session is designed to help parents feel more confident as their babies begin their weaning journey\, while little ones explore through sensory play. \n⸻ \nSession Details \nDate: Thursday 19 February\nTime: 10:00am – 11:00am\nLocation: Heather House Community Café\,\nAvenue of Remembrance\, Sittingbourne\, ME10 4NN\nPrice: £12 \n⸻ \nWhat’s Included \n• A weaning workshop led by Baby Bliss\, sharing supportive\, evidence-based guidance\n• Opportunities to explore food preparation and textures\n• A fun\, food-themed footprint activity\n• A calm sensory play area led by Sensations for Generations\n• Space for babies to play\, explore\, or take a break if they’re feeling fussy \n⸻ \nWhat to Expect \nThis session is relaxed and baby-led. Parents can dip in and out of activities while babies explore at their own pace. \nBabies can be fed changed and explore freely — this is a welcoming\, chilled out space 🤍 \n⸻ \nAbout the Collaboration \nBaby Bliss supports parents with evidence-based guidance around baby development and weaning.\nSensations for Generations focuses on connection\, sensory development\, and emotional wellbeing for babies and their caregivers. \n⸻ \nWe look forward to welcoming you for a calm\, informative\, and supportive session as you begin your weaning journey.
URL:https://sensationsforgenerations.org.uk/session/weaning-sensory/
LOCATION:Heather House\, Heather House Community Cafe\, Ave of Remembrance\, Sittingbourne\, Kent\, ME10 4NN\, United Kingdom
CATEGORIES:One-Off
ATTACH;FMTTYPE=image/png:https://sensationsforgenerations.org.uk/wp-content/uploads/2026/01/Whats_on_this_week_with_Instagram_Post_34_Instagram_Post_45.png
END:VEVENT
END:VCALENDAR