BEGIN:VCALENDAR
VERSION:2.0
PRODID:-//Sensations For Generations - ECPv6.15.15//NONSGML v1.0//EN
CALSCALE:GREGORIAN
METHOD:PUBLISH
X-WR-CALNAME:Sensations For Generations
X-ORIGINAL-URL:https://sensationsforgenerations.org.uk
X-WR-CALDESC:Events for Sensations For Generations
REFRESH-INTERVAL;VALUE=DURATION:PT1H
X-Robots-Tag:noindex
X-PUBLISHED-TTL:PT1H
BEGIN:VTIMEZONE
TZID:Europe/London
BEGIN:DAYLIGHT
TZOFFSETFROM:+0000
TZOFFSETTO:+0100
TZNAME:BST
DTSTART:20250330T010000
END:DAYLIGHT
BEGIN:STANDARD
TZOFFSETFROM:+0100
TZOFFSETTO:+0000
TZNAME:GMT
DTSTART:20251026T010000
END:STANDARD
BEGIN:DAYLIGHT
TZOFFSETFROM:+0000
TZOFFSETTO:+0100
TZNAME:BST
DTSTART:20260329T010000
END:DAYLIGHT
BEGIN:STANDARD
TZOFFSETFROM:+0100
TZOFFSETTO:+0000
TZNAME:GMT
DTSTART:20261025T010000
END:STANDARD
BEGIN:DAYLIGHT
TZOFFSETFROM:+0000
TZOFFSETTO:+0100
TZNAME:BST
DTSTART:20270328T010000
END:DAYLIGHT
BEGIN:STANDARD
TZOFFSETFROM:+0100
TZOFFSETTO:+0000
TZNAME:GMT
DTSTART:20271031T010000
END:STANDARD
END:VTIMEZONE
BEGIN:VEVENT
DTSTART;TZID=Europe/London:20260212T100000
DTEND;TZID=Europe/London:20260212T110000
DTSTAMP:20260422T232632
CREATED:20251204T134357Z
LAST-MODIFIED:20260202T124537Z
UID:326-1770890400-1770894000@sensationsforgenerations.org.uk
SUMMARY:Valentines Day - Stay n Play (One-Off)
DESCRIPTION:Mum & Baby Café Meet-Up ☕🤍 \nValentine’s Special | One-Off Event \nJoin us for a relaxed and friendly Mum & Baby Café Meet-Up\, created to celebrate connection\, community\, and a little Valentine’s treat. Expect buggies\, brews\, cake\, and a welcoming space where mums can meet\, chat\, and feel supported. \nSuitable for babies aged 0–18 months. \n⸻ \nSession Details \nDate: Monday 9 February\nTime: 12:00pm – 2:00pm\nLocation: Twydall Community Center\, Beechings Way\, Gillingham ME8 6TQ\nPrice: £12 per person \n⸻ \nWhat’s Included \nYour ticket includes: \n• 1 hot or cold drink and a slice of cake\n• A relaxed café space to connect with other mums\n• A sensory Stay & Play taster session with Ellie from Sensations for Generations\n• A guest Q&A on baby weaning with Sophie from Baby Bliss\, sharing evidence-based information\n• A goodie bag filled with resources\, samples\, and exclusive offers from small businesses and well-known brands \n⸻ \nHosted By \nThis special event is hosted by Mini & Me\, with contributions from: \n• Sensations for Generations — supporting connection\, sensory development\, and emotional wellbeing across generations\n• Baby Bliss — providing evidence-based guidance on baby weaning \n⸻ \nGood to Know \nBabies can feed\, cry\, nap\, and explore freely — this is a calm\, judgment-free space 🤍\nBuggies are welcome. \n⸻ \nWe can’t wait to welcome you for a warm\, supportive afternoon filled with connection\, conversation\, and care.
URL:https://sensationsforgenerations.org.uk/session/valentines-day/
LOCATION:Twydall Community Center\, Beechings Way\, Gillingham ME8 6TQ\, Gillingham\, Kent\, ME8 6TQ\, United Kingdom
CATEGORIES:One-Off
ATTACH;FMTTYPE=image/png:https://sensationsforgenerations.org.uk/wp-content/uploads/2025/12/Whats_on_this_week_with_Instagram_Post_34_Instagram_Post_42.png
END:VEVENT
BEGIN:VEVENT
DTSTART;TZID=Europe/London:20260210T113000
DTEND;TZID=Europe/London:20260210T123000
DTSTAMP:20260422T232632
CREATED:20260128T133547Z
LAST-MODIFIED:20260202T115045Z
UID:1045-1770723000-1770726600@sensationsforgenerations.org.uk
SUMMARY:Intergenerational Sensory Play Sessions (Every Tuesday) 10/2
DESCRIPTION:Intergenerational Sensory Play 🌈\nWeekly Tuesdays \nJoin us for a gentle and engaging intergenerational sensory play session for babies aged 0–18 months\, designed to support early development through play\, connection\, and shared experience. \nThese sessions bring babies and older generations together in a calm\, nurturing environment. Grandparents and older carers are warmly welcomed 🤍 \n⸻ \nSession Details\nTime: 11:30am – 12:30pm\nLocation: Reynolds Workspace\, Rainham\nPrice: £10\nAge: Babies 0–18 months \n⸻ \nWhat’s Included\nEach session includes a thoughtful mix of baby-led sensory play\, music\, movement\, and calm interaction. All aligned with their natural play-rest rhythm. Activities may include: \n• Sensory textures\, lights\, and visual play\n• Songs\, rhymes\, and simple musical instruments\n• Free play and guided sensory activities\n• A relaxed space to bond\, explore\, and connect with others \n⸻ \nWhat to Expect\nOur sessions are calm\, welcoming\, and baby-led. Activities are adaptable\, allowing little ones to engage at their own pace. \nBabies can changed\, fed & explore freely at any time — this is a relaxed & chilled out space 🤍 \n⸻ \nParking\nParking is available at The Cricketers\, across the road from the venue. \n⸻ \nHosted by Sensations for Generations — connecting babies and communities through sensory play
URL:https://sensationsforgenerations.org.uk/session/intergenerational-sensory-play-sessions-every-tuesday-10-2/
LOCATION:Reynolds Workspace\, Reynolds Workspace\, 113 High Street\, Rainham\, Kent\, ME8 8AA\, United Kingdom
CATEGORIES:Sensory Play (Tuesday)
ATTACH;FMTTYPE=image/jpeg:https://sensationsforgenerations.org.uk/wp-content/uploads/2026/01/IMG_8123.jpg
END:VEVENT
BEGIN:VEVENT
DTSTART;TZID=Europe/London:20260203T113000
DTEND;TZID=Europe/London:20260203T123000
DTSTAMP:20260422T232632
CREATED:20260128T132859Z
LAST-MODIFIED:20260202T115107Z
UID:1035-1770118200-1770121800@sensationsforgenerations.org.uk
SUMMARY:Intergenerational Sensory Play Sessions (Every Tuesday) 03/02
DESCRIPTION:Intergenerational Sensory Play 🌈\nWeekly Tuesdays \nJoin us for a gentle and engaging intergenerational sensory play session for babies aged 0–18 months\, designed to support early development through play\, connection\, and shared experience. \nThese sessions bring babies and older generations together in a calm\, nurturing environment. Grandparents and older carers are warmly welcomed 🤍 \n⸻ \nSession Details\nTime: 11:30am – 12:30pm\nLocation: Reynolds Workspace\, Rainham\nPrice: £10\nAge: Babies 0–18 months \n⸻ \nWhat’s Included\nEach session includes a thoughtful mix of baby-led sensory play\, music\, movement\, and calm interaction. All aligned with their natural play-rest rhythm. Activities may include: \n• Sensory textures\, lights\, and visual play\n• Songs\, rhymes\, and simple musical instruments\n• Free play and guided sensory activities\n• A relaxed space to bond\, explore\, and connect with others \n⸻ \nWhat to Expect\nOur sessions are calm\, welcoming\, and baby-led. Activities are adaptable\, allowing little ones to engage at their own pace. \nBabies can changed\, fed & explore freely at any time — this is a relaxed & chilled out space 🤍 \n⸻ \nParking\nParking is available at The Cricketers\, across the road from the venue. \n⸻ \nHosted by Sensations for Generations — connecting babies and communities through sensory play.
URL:https://sensationsforgenerations.org.uk/session/intergenerational-sensory-play-sessions-every-tuesday/
LOCATION:Reynolds Workspace\, Reynolds Workspace\, 113 High Street\, Rainham\, Kent\, ME8 8AA\, United Kingdom
CATEGORIES:Sensory Play (Tuesday)
ATTACH;FMTTYPE=image/jpeg:https://sensationsforgenerations.org.uk/wp-content/uploads/2026/01/IMG_8123.jpg
END:VEVENT
END:VCALENDAR